BEGIN:VCALENDAR
VERSION:2.0
PRODID:-//hacksw/handcal//NONSGML v1.0//EN
BEGIN:VEVENT
DTSTART:20161214T180000
DTEND:20161214T210000
LOCATION:CNAM - Amphi Jean-Baptiste Say - Accès 3-2-49 \n292, Rue Saint-Martin \n75003 PARIS
ORGANIZER;CN=Patrice HAEZEBROUCK:MAILTO:p.haezebrouck@gmail.com
SUMMARY:Grand Paris : Vers la spéculation ou la maîtrise du prix du foncier et de l'immobilier ?
DESCRIPTION:Zoom autour des futures gares Grand Paris Express & Eole\n \nConférence animée par Dominique Figeat,\nPrésident de l'Observatoire Régional du Foncier en Île-de-France et Responsable de la mission...
URL:https://www.ich-cnam-alumni.org/fr/event/grand-paris-vers-la-speculation-ou-la-maitrise-du-prix-du-foncier-et-de-l-immobilier/2016/12/14/87
BEGIN:VALARM
TRIGGER:-P0DT1H0M0S
ACTION:DISPLAY
END:VALARM
END:VEVENT
END:VCALENDAR