BEGIN:VCALENDAR
VERSION:2.0
PRODID:-//hacksw/handcal//NONSGML v1.0//EN
BEGIN:VEVENT
DTSTART:20160908T190000
DTEND:20160908T220000
LOCATION:CANAL SAINT MARTIN \n112, Quai de Jemmapes \n75010 PARIS
ORGANIZER;CN=Michael CROSS:MAILTO:michael.cross@wanadoo.fr
SUMMARY:Dernier pique nique de l'été, jeudi 8 septembre 2016
DESCRIPTION:\nPartager et "réseauter" en toute convivialité et décontraction autour d'un pique-nique au quai de Jemmapes.\nRendez-vous Jeudi 1er septembre à partir de 19h00,\nà la hauteur du 112 quai de Jemmapes,...
URL:https://www.ich-cnam-alumni.org/fr/event/dernier-pique-nique-de-l-ete-jeudi-8-septembre-2016/2016/09/08/81
BEGIN:VALARM
TRIGGER:-P0DT1H0M0S
ACTION:DISPLAY
END:VALARM
END:VEVENT
END:VCALENDAR