BEGIN:VCALENDAR
VERSION:2.0
PRODID:-//hacksw/handcal//NONSGML v1.0//EN
BEGIN:VEVENT
DTSTART:20151007T180000
DTEND:20151007T210000
LOCATION:Amphi Jean Prouvé - Accès 11 \n292, Rue Saint-Martin \n75003 PARIS
ORGANIZER;CN=Patrice HAEZEBROUCK:MAILTO:p.haezebrouck@gmail.com
SUMMARY:Conférence de rentrée - " Les courbes...    entremêlées" par Alain Bechade
DESCRIPTION:"Les courbes...   entremêlées" \nAlain Bechade nous donne la primeur de son analyse économique et immobilière.\nMercredi 7 octobre 2015 à 18h00 \nAmphi Jean Prouvé - 292, rue St Martin 75003...
URL:https://www.ich-cnam-alumni.org/fr/event/conference-de-rentree-les-courbes-entremelees-par-alain-bechade/2015/10/07/55
BEGIN:VALARM
TRIGGER:-P0DT1H0M0S
ACTION:DISPLAY
END:VALARM
END:VEVENT
END:VCALENDAR