BEGIN:VCALENDAR
VERSION:2.0
PRODID:-//hacksw/handcal//NONSGML v1.0//EN
BEGIN:VEVENT
DTSTART:20210112T170000
DTEND:20210112T190500
LOCATION:https://app.livestorm.co/make-u-learn/limmobilier-de-prestige-echappe-t-il-a-la-crise
ORGANIZER;CN=Marjorie Perrin:MAILTO:prrn.mj@gmail.com
SUMMARY:L’immobilier de prestige échappe-t-il à la crise ?
DESCRIPTION:\nEn 2020, même si les chiffres du nombre de transactions ne sont pas encore stabilisés, l’immobilier d’habitation aura opposé à la crise sanitaire et économique une belle résistance en 2020. Il reste...
URL:https://www.ich-cnam-alumni.org/fr/event/l-immobilier-de-prestige-echappe-t-il-a-la-crise/2021/01/12/189
BEGIN:VALARM
TRIGGER:-P0DT1H0M0S
ACTION:DISPLAY
END:VALARM
END:VEVENT
END:VCALENDAR