BEGIN:VCALENDAR
VERSION:2.0
PRODID:-//hacksw/handcal//NONSGML v1.0//EN
BEGIN:VEVENT
DTSTART:20200316T080000
DTEND:20200316T100000
LOCATION:Bistro LA GAITE, 75003 Paris
ORGANIZER;CN=Marjorie Perrin:MAILTO:prrn.mj@gmail.com
SUMMARY:Petit-Déjeuner en partenariat avec NOMAD-Immo
DESCRIPTION:Petit-Déjeuner de l’association ICHGratuit pour les membres cotisantsAvec la participation de Lionel CarnosNOMAD-ImmoAgence digitale de chasse immobilièreRecrute et recherche des partenariats avec des...
URL:https://www.ich-cnam-alumni.org/fr/event/petit-dejeuner-en-partenariat-avec-nomad-immo/2020/03/16/147
BEGIN:VALARM
TRIGGER:-P0DT1H0M0S
ACTION:DISPLAY
END:VALARM
END:VEVENT
END:VCALENDAR