BEGIN:VCALENDAR
VERSION:2.0
PRODID:-//hacksw/handcal//NONSGML v1.0//EN
BEGIN:VEVENT
DTSTART:20200201T093000
DTEND:20200201T103000
LOCATION:CNAM Pays-de-la-Loire \n25 Boulevard Guy Mollet \n44300 Nantes
ORGANIZER;CN=Marjorie Perrin:MAILTO:prrn.mj@gmail.com
SUMMARY:Réunion d'information alternance !
DESCRIPTION:\nVenez participer à la prochaine réunion d'information sur les formations dispensées par l'ICH en alternance !Anciens élèves, venez nous faire part de votre retour d'expérience ! Intéressés, curieux,...
URL:https://www.ich-cnam-alumni.org/fr/event/reunion-d-information-alternance/2020/02/01/132
BEGIN:VALARM
TRIGGER:-P0DT1H0M0S
ACTION:DISPLAY
END:VALARM
END:VEVENT
END:VCALENDAR